BEGIN:VCALENDAR
VERSION:2.0
PRODID:-//Squarespace Inc/Squarespace 6//v6//EN
BEGIN:VEVENT
UID:5dca51420340341fa6f9d7be@squarespace.com
DTSTAMP:20191112T063930Z
DTSTART:20200120T230000Z
DTEND:20200122T070000Z
SUMMARY:4th Annual Smart Cities International Symposium
GEO:41.878114;-87.629798
LOCATION:Chicago
END:VEVENT
END:VCALENDAR
