BEGIN:VCALENDAR
VERSION:2.0
PRODID:-//Squarespace Inc/Squarespace 6//v6//EN
BEGIN:VEVENT
UID:5c7468027817f7cf1b467381@squarespace.com
DTSTAMP:20190225T221452Z
DTSTART:20190827T223000Z
DTEND:20190829T070000Z
SUMMARY:7th Annual Australian Smart Lighting Summit 2019
GEO:-37.82613;144.953107
LOCATION:Melbourne Convention & Exhibition Centre
END:VEVENT
END:VCALENDAR
