BEGIN:VCALENDAR
VERSION:2.0
PRODID:-//Squarespace Inc/Squarespace 6//v6//EN
BEGIN:VEVENT
UID:5ce60870652deac5a34a09cd@squarespace.com
DTSTAMP:20190523T024800Z
DTSTART:20190702T030000Z
DTEND:20190702T040000Z
SUMMARY:Design Futures Council - Transcend
END:VEVENT
END:VCALENDAR
