BEGIN:VCALENDAR
VERSION:2.0
PRODID:-//Squarespace Inc/Squarespace 6//v6//EN
BEGIN:VEVENT
UID:5c74675d24a694948ffb7ce4@squarespace.com
DTSTAMP:20190225T221057Z
DTSTART:20190624T223000Z
DTEND:20190626T070000Z
SUMMARY:Australian Smart Skyscrapers Summit 2019
GEO:-37.82613;144.953107
LOCATION:Melbourne Coinvention & Exhibition Centre
END:VEVENT
END:VCALENDAR
