BEGIN:VCALENDAR
VERSION:2.0
PRODID:-//Squarespace Inc/Squarespace 6//v6//EN
BEGIN:VEVENT
UID:5bebdf2ff950b72ed9edcd1d@squarespace.com
DTSTAMP:20181114T084639Z
DTSTART:20190601T090000Z
DTEND:20190601T100000Z
SUMMARY:Registrations Closing Soon: 2019 City Makers' Guild Study Tour
END:VEVENT
END:VCALENDAR
