BEGIN:VCALENDAR
VERSION:2.0
PRODID:-//Squarespace Inc/Squarespace 6//v6//EN
BEGIN:VEVENT
UID:5cc798f7b208fcc964adad1d@squarespace.com
DTSTAMP:20190430T004216Z
DTSTART:20190528T230000Z
DTEND:20190531T053000Z
SUMMARY:National Clean Technologies Conference &amp\; Exhibition
GEO:-26.802651;153.130686
LOCATION:The Events Centre\, 20 Minchinton Street\, Caloundra\, QLD\, 4551\
 , Australia
END:VEVENT
END:VCALENDAR
