BEGIN:VCALENDAR
VERSION:2.0
PRODID:-//Squarespace Inc/Squarespace 6//v6//EN
BEGIN:VEVENT
UID:5c8c1b6deef1a165096d14c4@squarespace.com
DTSTAMP:20190315T214423Z
DTSTART:20190324T220000Z
DTEND:20190328T070000Z
SUMMARY:MAV Technology 'Riding the Wave' National Annual Conference &amp\; 
 Awards for Excellence
GEO:-38.158006;144.354552
LOCATION:370 Moorabool Street\, Geelong\, Australia
END:VEVENT
END:VCALENDAR
