BEGIN:VCALENDAR
VERSION:2.0
PRODID:-//Squarespace Inc/Squarespace 6//v6//EN
BEGIN:VEVENT
UID:5bebb52421c67c01d690f37c@squarespace.com
DTSTAMP:20190104T040754Z
DTSTART:20190311T220000Z
DTEND:20190321T110000Z
SUMMARY:Barcelona to You - Digital Transformation Training
END:VEVENT
END:VCALENDAR
