BEGIN:VCALENDAR
VERSION:2.0
PRODID:-//Squarespace Inc/Squarespace 6//v6//EN
BEGIN:VEVENT
UID:5c74652e4785d3380b2cc9f2@squarespace.com
DTSTAMP:20190225T220721Z
DTSTART:20190325T220000Z
DTEND:20190327T070000Z
SUMMARY:Transport of Tomorrow Symposium 2019
GEO:-37.819967;144.983449
LOCATION:Melbourne Cricket Ground
END:VEVENT
END:VCALENDAR
