BEGIN:VCALENDAR
VERSION:2.0
PRODID:-//Squarespace Inc/Squarespace 6//v6//EN
BEGIN:VEVENT
UID:5d89ac0b19907411bba7f7d9@squarespace.com
DTSTAMP:20190924T054111Z
DTSTART:20191014T220000Z
DTEND:20191016T070000Z
SUMMARY:IoT Impact
END:VEVENT
END:VCALENDAR
