BEGIN:VCALENDAR
VERSION:2.0
PRODID:-//Squarespace Inc/Squarespace 6//v6//EN
BEGIN:VEVENT
UID:5c33f5cb0ebbe827bc664a5c@squarespace.com
DTSTAMP:20190108T014219Z
DTSTART:20190421T230000Z
DTEND:20190423T080000Z
SUMMARY:2nd Annual Smart Cities 2019
END:VEVENT
END:VCALENDAR
