BEGIN:VCALENDAR
VERSION:2.0
PRODID:-//Squarespace Inc/Squarespace 6//v6//EN
BEGIN:VEVENT
UID:5b44046d0e2e7292fc81fcba@squarespace.com
DTSTAMP:20180814T234743Z
DTSTART:20180910T230000Z
DTEND:20180912T000000Z
SUMMARY:Australian Smart Lighting Summit
GEO:-37.825394;144.953111
LOCATION:Melbourne Convention & Exhibition Centre
END:VEVENT
END:VCALENDAR
