BEGIN:VCALENDAR
VERSION:2.0
PRODID:-//Squarespace Inc/Squarespace 6//v6//EN
BEGIN:VEVENT
UID:5b6113e103ce641614b0b437@squarespace.com
DTSTAMP:20180801T020731Z
DTSTART:20180909T230000Z
DTEND:20180911T070000Z
SUMMARY:IoT Impact Conference
END:VEVENT
END:VCALENDAR
