BEGIN:VCALENDAR
VERSION:2.0
PRODID:-//Squarespace Inc/Squarespace 6//v6//EN
BEGIN:VEVENT
UID:5b45afea2b6a28c31c62c3f8@squarespace.com
DTSTAMP:20180711T072404Z
DTSTART:20180808T223000Z
DTEND:20180810T070000Z
SUMMARY:World of Drones Congress
GEO:-27.476484;153.018374
LOCATION:Brisbane Convention & Exhibition Centre
END:VEVENT
END:VCALENDAR
