BEGIN:VCALENDAR
VERSION:2.0
PRODID:-//Squarespace Inc/Squarespace 6//v6//EN
BEGIN:VEVENT
UID:5af143a48a922d778364333c@squarespace.com
DTSTAMP:20180515T134545Z
DTSTART:20180807T230000Z
DTEND:20180811T063000Z
SUMMARY:World of Drones Congress
GEO:40.720756;-74.000761
LOCATION:Brisbane Convention & Exhibition Centre
END:VEVENT
END:VCALENDAR
