BEGIN:VCALENDAR
VERSION:2.0
PRODID:-//Squarespace Inc/Squarespace 6//v6//EN
BEGIN:VEVENT
UID:5af14472758d46982d66fbb1@squarespace.com
DTSTAMP:20180815T000439Z
DTSTART:20180827T230000Z
DTEND:20180829T063000Z
SUMMARY:Australian Intelligent Transport Systems Summit
GEO:40.720756;-74.000761
LOCATION:Sydney
END:VEVENT
END:VCALENDAR
