BEGIN:VCALENDAR
VERSION:2.0
PRODID:-//Squarespace Inc/Squarespace 6//v6//EN
BEGIN:VEVENT
UID:5af142f76d2a7352b802e182@squarespace.com
DTSTAMP:20180515T134521Z
DTSTART:20180717T230000Z
DTEND:20180718T060000Z
SUMMARY:Safe Cities Conference
GEO:-37.813628;144.963058
LOCATION:Melbourne\, Australia
END:VEVENT
END:VCALENDAR
