BEGIN:VCALENDAR
VERSION:2.0
PRODID:-//Squarespace Inc/Squarespace 6//v6//EN
BEGIN:VEVENT
UID:5af142010e2e727f41226772@squarespace.com
DTSTAMP:20180515T134446Z
DTSTART:20180715T230000Z
DTEND:20180717T063000Z
SUMMARY:Liveable Cities Conference
GEO:-37.813628;144.963058
LOCATION:Melbourne\, Australia
END:VEVENT
END:VCALENDAR
