BEGIN:VCALENDAR
VERSION:2.0
PRODID:-//Squarespace Inc/Squarespace 6//v6//EN
BEGIN:VEVENT
UID:5af13f518a922d778363ce53@squarespace.com
DTSTAMP:20180708T233453Z
DTSTART:20180710T230000Z
DTEND:20180713T063000Z
SUMMARY:Future Cities Summit
GEO:40.720756;-74.000761
LOCATION:Cairns\, QLD
END:VEVENT
END:VCALENDAR
