BEGIN:VCALENDAR
VERSION:2.0
PRODID:-//Squarespace Inc/Squarespace 6//v6//EN
BEGIN:VEVENT
UID:5af01df81ae6cf3823d68f96@squarespace.com
DTSTAMP:20180507T093733Z
DTSTART:20180606T230000Z
DTEND:20180608T060000Z
SUMMARY:Broadband for the Bush Forum
GEO:-12.371785;130.86892
LOCATION:Charles Darwin University
END:VEVENT
END:VCALENDAR
