BEGIN:VCALENDAR
VERSION:2.0
PRODID:-//Squarespace Inc/Squarespace 6//v6//EN
BEGIN:VEVENT
UID:5af01d5f575d1f581deecfbe@squarespace.com
DTSTAMP:20180507T093531Z
DTSTART:20180604T223000Z
DTEND:20180607T070000Z
SUMMARY:Intelligent Community Forum Summit
GEO:51.507351;-0.127758
LOCATION:London
END:VEVENT
END:VCALENDAR
