BEGIN:VCALENDAR
VERSION:2.0
PRODID:-//Squarespace Inc/Squarespace 6//v6//EN
BEGIN:VEVENT
UID:5af13df570a6ad9918882371@squarespace.com
DTSTAMP:20180515T134333Z
DTSTART:20180626T230000Z
DTEND:20180627T180000Z
SUMMARY:IoT Tech Expo Europe 
GEO:52.370216;4.895168
LOCATION:Amsterdam\, Netherlands
END:VEVENT
END:VCALENDAR
