BEGIN:VCALENDAR
VERSION:2.0
PRODID:-//Squarespace Inc/Squarespace 6//v6//EN
BEGIN:VEVENT
UID:5af01e778a922d4d855e19d2@squarespace.com
DTSTAMP:20180515T134303Z
DTSTART:20180625T221500Z
DTEND:20180627T071500Z
SUMMARY:Australian Smart Skyscrapers Summit
GEO:-33.865102;151.195474
LOCATION:Darling Island\, Sydney
END:VEVENT
END:VCALENDAR
