BEGIN:VCALENDAR
VERSION:2.0
PRODID:-//Squarespace Inc/Squarespace 6//v6//EN
BEGIN:VEVENT
UID:5af01f020e2e7248fe596369@squarespace.com
DTSTAMP:20180507T094056Z
DTSTART:20180507T100000Z
DTEND:20180507T110000Z
SUMMARY:IoT Tech Expo Europe
GEO:52.370216;4.895168
LOCATION:Amsterdam
END:VEVENT
END:VCALENDAR
