BEGIN:VCALENDAR
VERSION:2.0
PRODID:-//Squarespace Inc/Squarespace 6//v6//EN
BEGIN:VEVENT
UID:5aebf731562fa73b774b409b@squarespace.com
DTSTAMP:20180504T060355Z
DTSTART:20180502T230000Z
DTEND:20180503T070000Z
SUMMARY:Mobility as a service 2018
GEO:-33.870665;151.207442
LOCATION:Swissôtel Sydney
END:VEVENT
END:VCALENDAR
