BEGIN:VCALENDAR
VERSION:2.0
PRODID:-//Squarespace Inc/Squarespace 6//v6//EN
BEGIN:VEVENT
UID:5c1098b16d2a73d7ab11d894@squarespace.com
DTSTAMP:20190104T040701Z
DTSTART:20190207T223000Z
DTEND:20190208T050000Z
SUMMARY:Digital Western Parkland City
END:VEVENT
END:VCALENDAR
