BEGIN:VCALENDAR
VERSION:2.0
PRODID:-//Squarespace Inc/Squarespace 6//v6//EN
BEGIN:VEVENT
UID:5af14740352f538d74309f25@squarespace.com
DTSTAMP:20180815T000235Z
DTSTART:20181128T000000Z
DTEND:20181129T070000Z
SUMMARY:IoT Tech Expo North America
GEO:37.387474;-122.057543
LOCATION:Silicon Valley\, CA\, USA
END:VEVENT
END:VCALENDAR
