BEGIN:VCALENDAR
VERSION:2.0
PRODID:-//Squarespace Inc/Squarespace 6//v6//EN
BEGIN:VEVENT
UID:5af1460570a6ad991888dc59@squarespace.com
DTSTAMP:20180814T234345Z
DTSTART:20181113T000000Z
DTEND:20181115T070000Z
SUMMARY:Smart City Expo World Congress
GEO:41.385064;2.173403
LOCATION:Barcelona\, Spain
END:VEVENT
END:VCALENDAR
