BEGIN:VCALENDAR
VERSION:2.0
PRODID:-//Squarespace Inc/Squarespace 6//v6//EN
BEGIN:VEVENT
UID:5b6a7fa5f950b70e7010e211@squarespace.com
DTSTAMP:20180808T053503Z
DTSTART:20181028T230000Z
DTEND:20181031T070000Z
SUMMARY:Smart Cities Week Australia
END:VEVENT
END:VCALENDAR
