BEGIN:VCALENDAR
VERSION:2.0
PRODID:-//Squarespace Inc/Squarespace 6//v6//EN
BEGIN:VEVENT
UID:5cdb751724a694a8e46970fb@squarespace.com
DTSTAMP:20190515T061628Z
DTSTART:20190604T000000Z
DTEND:20190604T010000Z
SUMMARY:Opportunities &amp\; Challenges of Open Data &amp\; Data Sharing
GEO:-25.274398;133.775136
LOCATION:Australian Smart Communities Association\, Australia
END:VEVENT
END:VCALENDAR
