BEGIN:VCALENDAR
VERSION:2.0
PRODID:-//Squarespace Inc/Squarespace 6//v6//EN
BEGIN:VEVENT
UID:5d1c0582d619670001ed841a@squarespace.com
DTSTAMP:20190703T013624Z
DTSTART:20190731T000000Z
DTEND:20190731T010000Z
SUMMARY:What we aren't talking about enough in Smart Mobility
GEO:-37.816496;145.036273
LOCATION:ASCA\, Australia
END:VEVENT
END:VCALENDAR
