BEGIN:VCALENDAR
VERSION:2.0
PRODID:-//Squarespace Inc/Squarespace 6//v6//EN
BEGIN:VEVENT
UID:5c907b450d9297ad99f6a631@squarespace.com
DTSTAMP:20190322T050705Z
DTSTART:20190411T043000Z
DTEND:20190411T050000Z
SUMMARY:Experiences Developing Smart City Data Strategy
END:VEVENT
END:VCALENDAR
