BEGIN:VCALENDAR
VERSION:2.0
PRODID:-//Squarespace Inc/Squarespace 6//v6//EN
BEGIN:VEVENT
UID:5ddb723e460bea3944592f21@squarespace.com
DTSTAMP:20191125T062415Z
DTSTART:20191210T023000Z
DTEND:20191210T033000Z
SUMMARY:ASCA's Smart Parking Community of Practice
END:VEVENT
END:VCALENDAR
