BEGIN:VCALENDAR
VERSION:2.0
PRODID:-//Squarespace Inc/Squarespace 6//v6//EN
BEGIN:VEVENT
UID:5dafa4f0601361685ebcc6ee@squarespace.com
DTSTAMP:20191107T023430Z
DTSTART:20191108T020000Z
DTEND:20191108T030000Z
SUMMARY:Let's Learn from Local Government
GEO:-33.86882;151.209296
LOCATION:Australian Smart Communities Association\, Sydney\, Australia
END:VEVENT
END:VCALENDAR
