BEGIN:VCALENDAR
VERSION:2.0
PRODID:-//Squarespace Inc/Squarespace 6//v6//EN
BEGIN:VEVENT
UID:5b5ab2c32b6a28ee1780ed6b@squarespace.com
DTSTAMP:20180913T222522Z
DTSTART:20181121T020000Z
DTEND:20181121T024500Z
SUMMARY:SmartLearning Series: Preventing Failure in ICT and Smart Cities
END:VEVENT
END:VCALENDAR
