BEGIN:VCALENDAR
VERSION:2.0
PRODID:-//Squarespace Inc/Squarespace 6//v6//EN
BEGIN:VEVENT
UID:5b30ab7af950b77f29f7458a@squarespace.com
DTSTAMP:20180828T230700Z
DTSTART:20180912T020000Z
DTEND:20180912T024500Z
SUMMARY:SmartLearning Series: Smart cities - the good\, the bad and the ugl
 y
END:VEVENT
END:VCALENDAR
