BEGIN:VCALENDAR
VERSION:2.0
PRODID:-//Squarespace Inc/Squarespace 6//v6//EN
BEGIN:VEVENT
UID:5b30ab13f950b77f29f73c7f@squarespace.com
DTSTAMP:20180828T230718Z
DTSTART:20180919T020000Z
DTEND:20180919T024500Z
SUMMARY:SmartLearning Series: Preparing for your smart cities strategy - ge
 t it right the first time 
END:VEVENT
END:VCALENDAR
