BEGIN:VCALENDAR
VERSION:2.0
PRODID:-//Squarespace Inc/Squarespace 6//v6//EN
BEGIN:VEVENT
UID:5b5fd9b0aa4a99799744d80e@squarespace.com
DTSTAMP:20180801T013234Z
DTSTART:20180816T020000Z
DTEND:20180816T030000Z
SUMMARY:IPWEA Smart City Expo World Congress Immersion Tour Webinar
END:VEVENT
END:VCALENDAR
