BEGIN:VCALENDAR
VERSION:2.0
PRODID:-//Squarespace Inc/Squarespace 6//v6//EN
BEGIN:VEVENT
UID:5b08e3bbf950b7b034d52fd4@squarespace.com
DTSTAMP:20180711T072020Z
DTSTART:20180725T020000Z
DTEND:20180725T024500Z
SUMMARY:SmartLearning Series: Innovation in procurement
END:VEVENT
END:VCALENDAR
