BEGIN:VCALENDAR
VERSION:2.0
PRODID:-//Squarespace Inc/Squarespace 6//v6//EN
BEGIN:VEVENT
UID:5b08e2d62b6a2888556391f6@squarespace.com
DTSTAMP:20180526T043233Z
DTSTART:20180620T020000Z
DTEND:20180620T024500Z
SUMMARY:SmartLearning Series: Rockhampton's smart tech rollout
END:VEVENT
END:VCALENDAR
