BEGIN:VCALENDAR
VERSION:2.0
PRODID:-//Squarespace Inc/Squarespace 6//v6//EN
BEGIN:VEVENT
UID:5b08e1ee758d461b37b00784@squarespace.com
DTSTAMP:20180526T042951Z
DTSTART:20180613T020000Z
DTEND:20180613T024500Z
SUMMARY:SmartLearning Series: Round 2 funding program
END:VEVENT
END:VCALENDAR
