BEGIN:VCALENDAR
VERSION:2.0
PRODID:-//Squarespace Inc/Squarespace 6//v6//EN
BEGIN:VEVENT
UID:5b30aca588251b3091292e25@squarespace.com
DTSTAMP:20180828T230742Z
DTSTART:20181017T020000Z
DTEND:20181017T024500Z
SUMMARY:SmartLearning Series: Smarter community engagement
END:VEVENT
END:VCALENDAR
